BEGIN:VCALENDAR
VERSION:2.0
PRODID:-//Tarrytown Expocare Pharmacy - ECPv6.15.15//NONSGML v1.0//EN
CALSCALE:GREGORIAN
METHOD:PUBLISH
X-ORIGINAL-URL:https://tarrytownexpocare.com
X-WR-CALDESC:Events for Tarrytown Expocare Pharmacy
REFRESH-INTERVAL;VALUE=DURATION:PT1H
X-Robots-Tag:noindex
X-PUBLISHED-TTL:PT1H
BEGIN:VTIMEZONE
TZID:America/New_York
BEGIN:DAYLIGHT
TZOFFSETFROM:-0500
TZOFFSETTO:-0400
TZNAME:EDT
DTSTART:20250309T070000
END:DAYLIGHT
BEGIN:STANDARD
TZOFFSETFROM:-0400
TZOFFSETTO:-0500
TZNAME:EST
DTSTART:20251102T060000
END:STANDARD
BEGIN:DAYLIGHT
TZOFFSETFROM:-0500
TZOFFSETTO:-0400
TZNAME:EDT
DTSTART:20260308T070000
END:DAYLIGHT
BEGIN:STANDARD
TZOFFSETFROM:-0400
TZOFFSETTO:-0500
TZNAME:EST
DTSTART:20261101T060000
END:STANDARD
BEGIN:DAYLIGHT
TZOFFSETFROM:-0500
TZOFFSETTO:-0400
TZNAME:EDT
DTSTART:20270314T070000
END:DAYLIGHT
BEGIN:STANDARD
TZOFFSETFROM:-0400
TZOFFSETTO:-0500
TZNAME:EST
DTSTART:20271107T060000
END:STANDARD
END:VTIMEZONE
BEGIN:VEVENT
DTSTART;TZID=America/New_York:20260430T090000
DTEND;TZID=America/New_York:20260430T163000
DTSTAMP:20260425T123611
CREATED:20260305T220732Z
LAST-MODIFIED:20260325T161501Z
UID:10000114-1777539600-1777566600@tarrytownexpocare.com
SUMMARY:Tarrytown Expocare IDD & Behavioral Health Symposium - Orlando\, FL
DESCRIPTION:Beyond One Diagnosis: Managing Medication Complexity in IDD\nIDD & Behavioral Health Nursing Symposium \nJoin Tarrytown Expocare Pharmacy for a full-day\, in-person educational symposium focused on medication complexity in individuals with intellectual and developmental disabilities (IDD). \nThis program provides practical\, real-world insights for professionals supporting individuals with IDD and behavioral health needs. Attendees will explore medication safety challenges\, psychiatric and neurological comorbidities\, and strategies to improve oversight and outcomes in IDD care.
URL:https://tarrytownexpocare.com/event/tarrytown-expocare-idd-behavioral-health-symposium-orlando-fl
LOCATION:Hilton Orlando/Altamonte Springs\, 350 S. Northlake Blvd\, Altamonte Springs\, Florida\, 32701
CATEGORIES:Symposium
ATTACH;FMTTYPE=image/png:https://tarrytownexpocare.com/wp-content/uploads/2026/03/FL-Symposium-Header.png
END:VEVENT
END:VCALENDAR