BEGIN:VCALENDAR
VERSION:2.0
PRODID:-//Tarrytown Expocare Pharmacy - ECPv6.15.15//NONSGML v1.0//EN
CALSCALE:GREGORIAN
METHOD:PUBLISH
X-WR-CALNAME:Tarrytown Expocare Pharmacy
X-ORIGINAL-URL:https://tarrytownexpocare.com
X-WR-CALDESC:Events for Tarrytown Expocare Pharmacy
REFRESH-INTERVAL;VALUE=DURATION:PT1H
X-Robots-Tag:noindex
X-PUBLISHED-TTL:PT1H
BEGIN:VTIMEZONE
TZID:America/Chicago
BEGIN:DAYLIGHT
TZOFFSETFROM:-0600
TZOFFSETTO:-0500
TZNAME:CDT
DTSTART:20250309T080000
END:DAYLIGHT
BEGIN:STANDARD
TZOFFSETFROM:-0500
TZOFFSETTO:-0600
TZNAME:CST
DTSTART:20251102T070000
END:STANDARD
BEGIN:DAYLIGHT
TZOFFSETFROM:-0600
TZOFFSETTO:-0500
TZNAME:CDT
DTSTART:20260308T080000
END:DAYLIGHT
BEGIN:STANDARD
TZOFFSETFROM:-0500
TZOFFSETTO:-0600
TZNAME:CST
DTSTART:20261101T070000
END:STANDARD
BEGIN:DAYLIGHT
TZOFFSETFROM:-0600
TZOFFSETTO:-0500
TZNAME:CDT
DTSTART:20270314T080000
END:DAYLIGHT
BEGIN:STANDARD
TZOFFSETFROM:-0500
TZOFFSETTO:-0600
TZNAME:CST
DTSTART:20271107T070000
END:STANDARD
END:VTIMEZONE
BEGIN:VEVENT
DTSTART;TZID=America/Chicago:20260414T090000
DTEND;TZID=America/Chicago:20260414T163000
DTSTAMP:20260425T191519
CREATED:20260305T165357Z
LAST-MODIFIED:20260325T160213Z
UID:10000113-1776157200-1776184200@tarrytownexpocare.com
SUMMARY:Tarrytown Expocare IDD & Behavioral Health Symposium - Houston\, TX
DESCRIPTION:Beyond One Diagnosis: Managing Medication Complexity in IDD\nIDD & Behavioral Health Nursing Symposium \nJoin Tarrytown Expocare Pharmacy for a full-day\, in-person educational symposium focused on medication complexity in individuals with intellectual and developmental disabilities (IDD). \nThis program provides practical\, real-world insights for professionals supporting individuals with IDD and behavioral health needs. Attendees will explore medication safety challenges\, psychiatric and neurological comorbidities\, and strategies to improve oversight and outcomes in IDD care.
URL:https://tarrytownexpocare.com/event/tarrytown-expocare-idd-behavioral-health-symposium-houston-tx
LOCATION:Hilton Houston Westchase\, 9999 Westheimer Rd\, Houston\, TX\, 77042\, United States
CATEGORIES:Symposium
ATTACH;FMTTYPE=image/png:https://tarrytownexpocare.com/wp-content/uploads/2026/03/Pharmacy20satisfaction20survey20ARC20NY201.png
END:VEVENT
END:VCALENDAR