BEGIN:VCALENDAR
VERSION:2.0
PRODID:-//Tarrytown Expocare Pharmacy - ECPv6.15.15//NONSGML v1.0//EN
CALSCALE:GREGORIAN
METHOD:PUBLISH
X-WR-CALNAME:Tarrytown Expocare Pharmacy
X-ORIGINAL-URL:https://tarrytownexpocare.com
X-WR-CALDESC:Events for Tarrytown Expocare Pharmacy
REFRESH-INTERVAL;VALUE=DURATION:PT1H
X-Robots-Tag:noindex
X-PUBLISHED-TTL:PT1H
BEGIN:VTIMEZONE
TZID:America/New_York
BEGIN:DAYLIGHT
TZOFFSETFROM:-0500
TZOFFSETTO:-0400
TZNAME:EDT
DTSTART:20250309T070000
END:DAYLIGHT
BEGIN:STANDARD
TZOFFSETFROM:-0400
TZOFFSETTO:-0500
TZNAME:EST
DTSTART:20251102T060000
END:STANDARD
BEGIN:DAYLIGHT
TZOFFSETFROM:-0500
TZOFFSETTO:-0400
TZNAME:EDT
DTSTART:20260308T070000
END:DAYLIGHT
BEGIN:STANDARD
TZOFFSETFROM:-0400
TZOFFSETTO:-0500
TZNAME:EST
DTSTART:20261101T060000
END:STANDARD
BEGIN:DAYLIGHT
TZOFFSETFROM:-0500
TZOFFSETTO:-0400
TZNAME:EDT
DTSTART:20270314T070000
END:DAYLIGHT
BEGIN:STANDARD
TZOFFSETFROM:-0400
TZOFFSETTO:-0500
TZNAME:EST
DTSTART:20271107T060000
END:STANDARD
END:VTIMEZONE
BEGIN:VEVENT
DTSTART;VALUE=DATE:20260421
DTEND;VALUE=DATE:20260424
DTSTAMP:20260425T161308
CREATED:20260309T131344Z
LAST-MODIFIED:20260309T131344Z
UID:10000123-1776729600-1776988799@tarrytownexpocare.com
SUMMARY:ANCOR Connect ’26
DESCRIPTION:Navigating the Now\nApril 21–23\, 2026 \nTarrytown Expocare Pharmacy is proud to participate in ANCOR Connect ’26\, the flagship annual conference hosted by the American Network of Community Options and Resources. This national gathering brings together leaders from organizations that support individuals with intellectual and developmental disabilities (IDD) from across the country. \nThe conference theme\, “Navigating the Now\,” focuses on how provider organizations can adapt to the evolving landscape of disability services. Attendees explore innovative strategies\, practical solutions\, and emerging tools that help organizations strengthen services and expand opportunities for individuals with disabilities. \nThroughout the three-day event\, participants engage in keynote presentations\, breakout sessions\, and collaborative discussions focused on leadership resilience\, technology in service delivery\, workforce development\, and community inclusion. The conference also provides valuable networking opportunities with providers\, advocates\, and industry partners who are shaping the future of IDD services. \nAs a pharmacy partner dedicated exclusively to organizations supporting individuals with intellectual and developmental disabilities and behavioral health needs\, Tarrytown Expocare values opportunities to connect with provider leaders and share insights that support medication management\, compliance\, and operational success.
URL:https://tarrytownexpocare.com/event/ancor-connect-26
LOCATION:Omni Boston Hotel at the Seaport\, 450 Summer Street\, Boston\, MA\, 02210\, United States
ATTACH;FMTTYPE=image/png:https://tarrytownexpocare.com/wp-content/uploads/2025/12/partner-logo-ancor.png
END:VEVENT
END:VCALENDAR